BEGIN:VCALENDAR
VERSION:2.0
PRODID:-//Clube Monte Líbano - ECPv6.3.6//NONSGML v1.0//EN
CALSCALE:GREGORIAN
METHOD:PUBLISH
X-ORIGINAL-URL:https://montelibanoriopreto.com.br
X-WR-CALDESC:Eventos para Clube Monte Líbano
REFRESH-INTERVAL;VALUE=DURATION:PT1H
X-Robots-Tag:noindex
X-PUBLISHED-TTL:PT1H
BEGIN:VTIMEZONE
TZID:America/Sao_Paulo
BEGIN:STANDARD
TZOFFSETFROM:-0300
TZOFFSETTO:-0300
TZNAME:-03
DTSTART:20260101T000000
END:STANDARD
END:VTIMEZONE
BEGIN:VEVENT
DTSTART;TZID=America/Sao_Paulo:20260411T150000
DTEND;TZID=America/Sao_Paulo:20260411T170000
DTSTAMP:20260421T193333
CREATED:20260409T202642Z
LAST-MODIFIED:20260409T202642Z
UID:26171-1775919600-1775926800@montelibanoriopreto.com.br
SUMMARY:Basquete
DESCRIPTION:BASQUETE – Campeonato Estadual\, jogos no Ginásio do CML. \nSub 16 CML X PORTO FELIZ\, às 15:00 horas. \nSub 18 CML X AJABASK\, às 17:00 horas.
URL:https://montelibanoriopreto.com.br/evento/basquete-154/
LOCATION:Ginásio do CML
CATEGORIES:Atividades Semanais
END:VEVENT
BEGIN:VEVENT
DTSTART;TZID=America/Sao_Paulo:20260411T160000
DTEND;TZID=America/Sao_Paulo:20260411T160000
DTSTAMP:20260421T193333
CREATED:20260409T202442Z
LAST-MODIFIED:20260409T202509Z
UID:26169-1775923200-1775923200@montelibanoriopreto.com.br
SUMMARY:Bola queimada
DESCRIPTION:BOLA QUEIMADA – 60° Campeonato Mirim\, Infantil e Juvenil\, “VANESSA DE FREITAS G AUGUSTO” rodada a partir das 16:00 horas nas quadras do CML. (RODADA SOMENTE DA CATEGORIA INFANTIL)
URL:https://montelibanoriopreto.com.br/evento/bola-queimada-79/
LOCATION:Quadras do CML
CATEGORIES:Atividades Semanais
END:VEVENT
BEGIN:VEVENT
DTSTART;TZID=America/Sao_Paulo:20260411T170000
DTEND;TZID=America/Sao_Paulo:20260411T170000
DTSTAMP:20260421T193333
CREATED:20260409T202302Z
LAST-MODIFIED:20260409T202302Z
UID:26167-1775926800-1775926800@montelibanoriopreto.com.br
SUMMARY:Bola queimada
DESCRIPTION:BOLA QUEIMADA – 50° Campeonato Feminino Adulto\, “RENATA ALMEIDA MILIAN” rodada a partir das 17:00 horas nas quadras do CML.
URL:https://montelibanoriopreto.com.br/evento/bola-queimada-78/
LOCATION:Quadras do CML
CATEGORIES:Atividades Semanais
END:VEVENT
BEGIN:VEVENT
DTSTART;TZID=America/Sao_Paulo:20260412T073000
DTEND;TZID=America/Sao_Paulo:20260412T073000
DTSTAMP:20260421T193333
CREATED:20260409T202050Z
LAST-MODIFIED:20260409T202122Z
UID:26165-1775979000-1775979000@montelibanoriopreto.com.br
SUMMARY:Futebol
DESCRIPTION:FUTEBOL – 69° Campeonato Dente de Ouro\, Sênior\, Magnos / 3° Campeonato Divas\, “GUSTAVO DA SILVA DOSUALDO”\, “EDUARDO DIAS OLMEDO”\, “JOSE HEITOR DOS SANTOS” e “NATALIA CRISTINA BASSETTI FACHINI”\, rodada a partir das 07:30 horas no Complexo 2000.
URL:https://montelibanoriopreto.com.br/evento/futebol-390/
LOCATION:Complexo 2000
CATEGORIES:Atividades Semanais
END:VEVENT
BEGIN:VEVENT
DTSTART;TZID=America/Sao_Paulo:20260412T080000
DTEND;TZID=America/Sao_Paulo:20260412T080000
DTSTAMP:20260421T193333
CREATED:20260409T201634Z
LAST-MODIFIED:20260409T201658Z
UID:26161-1775980800-1775980800@montelibanoriopreto.com.br
SUMMARY:Bocha
DESCRIPTION:BOCHA – 47° Campeonato Individual Masculino e Feminino\, “DANIELA SANCHES SAMPAIO” e “FERNANDA FETTI”\, rodada a partir das 08:00 horas nas canchas do CML.
URL:https://montelibanoriopreto.com.br/evento/bocha-42/
LOCATION:Canchas do CML
CATEGORIES:Atividades Semanais
END:VEVENT
BEGIN:VEVENT
DTSTART;TZID=America/Sao_Paulo:20260412T080000
DTEND;TZID=America/Sao_Paulo:20260412T080000
DTSTAMP:20260421T193333
CREATED:20260409T201757Z
LAST-MODIFIED:20260409T201826Z
UID:26163-1775980800-1775980800@montelibanoriopreto.com.br
SUMMARY:Futebol
DESCRIPTION:FUTEBOL – 58° Campeonato Dentinho “WENDEL RENATO PARISE”\, rodada a partir das 08:00 horas no Complexo 2000.
URL:https://montelibanoriopreto.com.br/evento/futebol-389/
LOCATION:Complexo 2000
CATEGORIES:Atividades Semanais
END:VEVENT
BEGIN:VEVENT
DTSTART;TZID=America/Sao_Paulo:20260412T083000
DTEND;TZID=America/Sao_Paulo:20260412T083000
DTSTAMP:20260421T193333
CREATED:20260409T201515Z
LAST-MODIFIED:20260409T201528Z
UID:26159-1775982600-1775982600@montelibanoriopreto.com.br
SUMMARY:Futebol
DESCRIPTION:FUTEBOL – Veteranos Mirassol\, CML X MISTURA\, no Campão 02 a partir das 08:30 horas.
URL:https://montelibanoriopreto.com.br/evento/futebol-388/
LOCATION:Campão 02
CATEGORIES:Atividades Semanais
END:VEVENT
BEGIN:VEVENT
DTSTART;TZID=America/Sao_Paulo:20260413T190000
DTEND;TZID=America/Sao_Paulo:20260413T203000
DTSTAMP:20260421T193334
CREATED:20260416T174733Z
LAST-MODIFIED:20260416T174744Z
UID:26296-1776106800-1776112200@montelibanoriopreto.com.br
SUMMARY:Futsal
DESCRIPTION:FUTSAL – Copa Futsal Mirassol\, jogos no Ginásio Gisberto Botão (Cohab 2). \n– Sub 07 CML X TUPAN CLUBE\, às 19:15 horas. \n– Sub 11 CML X ARCA\, às 20:25 horas.
URL:https://montelibanoriopreto.com.br/evento/futsal-96/
LOCATION:Ginásio Gisberto Botão – Mirassol
CATEGORIES:Atividades Semanais
END:VEVENT
BEGIN:VEVENT
DTSTART;TZID=America/Sao_Paulo:20260415T193000
DTEND;TZID=America/Sao_Paulo:20260415T193000
DTSTAMP:20260421T193334
CREATED:20260416T165551Z
LAST-MODIFIED:20260416T165551Z
UID:26283-1776281400-1776281400@montelibanoriopreto.com.br
SUMMARY:Futsal
DESCRIPTION:FUTSAL – Copa Rio Preto\, sub 12 CML X BOLA NA REDE\, às 19:50 horas no Ginásio 19 de Março.
URL:https://montelibanoriopreto.com.br/evento/futsal-95/
LOCATION:Ginásio 19 de março em Rio Preto
CATEGORIES:Atividades Semanais
END:VEVENT
BEGIN:VEVENT
DTSTART;TZID=America/Sao_Paulo:20260417T150000
DTEND;TZID=America/Sao_Paulo:20260417T150000
DTSTAMP:20260421T193334
CREATED:20260416T165254Z
LAST-MODIFIED:20260416T165320Z
UID:26280-1776438000-1776438000@montelibanoriopreto.com.br
SUMMARY:Futebol
DESCRIPTION:FUTEBOL – Jogo amistoso\, sub 16 CML MASC X MIRASSOL FEMININO\, às 15:00 horas no Ct Bolão Mirassol.
URL:https://montelibanoriopreto.com.br/evento/futebol-396/
LOCATION:Ct Bolão Mirassol
CATEGORIES:Atividades Semanais
END:VEVENT
BEGIN:VEVENT
DTSTART;TZID=America/Sao_Paulo:20260417T190000
DTEND;TZID=America/Sao_Paulo:20260417T210000
DTSTAMP:20260421T193334
CREATED:20260416T165101Z
LAST-MODIFIED:20260416T165101Z
UID:26278-1776452400-1776459600@montelibanoriopreto.com.br
SUMMARY:Futsal
DESCRIPTION:FUTSAL – Copa Futsal Mirassol\, jogos no Ginásio Gisberto Botão (Cohab 2). \n– Sub 07 CML X FALCÃO\, às 19:15 horas. \n– Sub 11 CML X TUPAN CLUBE\, às 20:35 horas.
URL:https://montelibanoriopreto.com.br/evento/futsal-94/
LOCATION:Ginásio Gisberto Botão – Mirassol
CATEGORIES:Atividades Semanais
END:VEVENT
BEGIN:VEVENT
DTSTART;TZID=America/Sao_Paulo:20260418T073000
DTEND;TZID=America/Sao_Paulo:20260418T103000
DTSTAMP:20260421T193334
CREATED:20260416T164914Z
LAST-MODIFIED:20260416T164925Z
UID:26276-1776497400-1776508200@montelibanoriopreto.com.br
SUMMARY:Futebol
DESCRIPTION:FUTEBOL – Copa A.M.E Maple Bear\, jogos no Campão 01 do CML. \n– Sub 10 CML X CORINTHINHA\, às 07:30 horas. \n– Sub 12 CML X CORINTHINHA\, às 08:30 horas. \n– Sub 14 CML X CORINTHINHA\, às 09:30 horas. \n– Sub 16 CML X CORINTHINHA\, às 10:30 horas.
URL:https://montelibanoriopreto.com.br/evento/futebol-395/
LOCATION:Campão 01
CATEGORIES:Atividades Semanais
END:VEVENT
BEGIN:VEVENT
DTSTART;TZID=America/Sao_Paulo:20260418T110000
DTEND;TZID=America/Sao_Paulo:20260418T150000
DTSTAMP:20260421T193334
CREATED:20260416T164649Z
LAST-MODIFIED:20260416T164649Z
UID:26273-1776510000-1776524400@montelibanoriopreto.com.br
SUMMARY:Basquete
DESCRIPTION:BASQUETE – Campeonato Estadual\, jogos em São Bernardo – SP. \nSub 18 CML X CENTRO OLÍMPICO\, às 11:00 horas. \nSub 16 CML X SÃO BERNARDO\, às 15:00 horas.
URL:https://montelibanoriopreto.com.br/evento/basquete-156/
LOCATION:São Bernardo – SP
CATEGORIES:Atividades Semanais
END:VEVENT
BEGIN:VEVENT
DTSTART;TZID=America/Sao_Paulo:20260418T170000
DTEND;TZID=America/Sao_Paulo:20260418T170000
DTSTAMP:20260421T193334
CREATED:20260416T164427Z
LAST-MODIFIED:20260416T164427Z
UID:26271-1776531600-1776531600@montelibanoriopreto.com.br
SUMMARY:Bola queimada
DESCRIPTION:BOLA QUEIMADA – 50° Campeonato Feminino Adulto\, “RENATA ALMEIDA MILIAN” rodada a partir das 17:00 horas nas quadras do CML.
URL:https://montelibanoriopreto.com.br/evento/bola-queimada-81/
LOCATION:Quadras do CML
CATEGORIES:Atividades Semanais
END:VEVENT
BEGIN:VEVENT
DTSTART;TZID=America/Sao_Paulo:20260419T000000
DTEND;TZID=America/Sao_Paulo:20260424T000000
DTSTAMP:20260421T193334
CREATED:20260416T162705Z
LAST-MODIFIED:20260416T162705Z
UID:26259-1776556800-1776988800@montelibanoriopreto.com.br
SUMMARY:Tênis
DESCRIPTION:TÊNIS – 2 atletas do CML participará do Torneio Brasileiro GA em Belo Horizonte de 19 à 24/04.
URL:https://montelibanoriopreto.com.br/evento/tenis-29/
LOCATION:Belo Horizonte
CATEGORIES:Atividades Semanais
END:VEVENT
BEGIN:VEVENT
DTSTART;TZID=America/Sao_Paulo:20260419T080000
DTEND;TZID=America/Sao_Paulo:20260419T080000
DTSTAMP:20260421T193334
CREATED:20260416T164129Z
LAST-MODIFIED:20260416T164149Z
UID:26269-1776585600-1776585600@montelibanoriopreto.com.br
SUMMARY:Bocha
DESCRIPTION:BOCHA – 47° Campeonato Individual Masculino e Feminino\, “DANIELA SANCHES SAMPAIO” e “FERNANDA FETTI”\, Semifinal a partir das 08:00 horas nas canchas do CML.
URL:https://montelibanoriopreto.com.br/evento/bocha-43/
LOCATION:Canchas do CML
CATEGORIES:Atividades Semanais
END:VEVENT
BEGIN:VEVENT
DTSTART;TZID=America/Sao_Paulo:20260419T083000
DTEND;TZID=America/Sao_Paulo:20260419T083000
DTSTAMP:20260421T193334
CREATED:20260416T163955Z
LAST-MODIFIED:20260416T164005Z
UID:26267-1776587400-1776587400@montelibanoriopreto.com.br
SUMMARY:Futebol
DESCRIPTION:FUTEBOL – Veteranos Mirassol\, CML X CLUBE DOS 40 CATANDUVA\, no Campão 02 a partir das 08:30 horas.
URL:https://montelibanoriopreto.com.br/evento/futebol-394/
LOCATION:Campão 02
CATEGORIES:Atividades Semanais
END:VEVENT
BEGIN:VEVENT
DTSTART;TZID=America/Sao_Paulo:20260419T090000
DTEND;TZID=America/Sao_Paulo:20260419T090000
DTSTAMP:20260421T193334
CREATED:20260416T162904Z
LAST-MODIFIED:20260416T162915Z
UID:26262-1776589200-1776589200@montelibanoriopreto.com.br
SUMMARY:Basquete
DESCRIPTION:BASQUETE – Campeonato Estadual\, Sub 16 CML X PAINEIRAS\, às 09:00 horas no Paineiras – SP.
URL:https://montelibanoriopreto.com.br/evento/basquete-155/
LOCATION:Paineiras – SP
CATEGORIES:Atividades Semanais
END:VEVENT
BEGIN:VEVENT
DTSTART;TZID=America/Sao_Paulo:20260419T090000
DTEND;TZID=America/Sao_Paulo:20260419T090000
DTSTAMP:20260421T193334
CREATED:20260416T163218Z
LAST-MODIFIED:20260416T163852Z
UID:26265-1776589200-1776589200@montelibanoriopreto.com.br
SUMMARY:Judô
DESCRIPTION:JUDÔ – A equipe do CML\, participará do Torneio Aniversário Catanduva às 09:00 horas no Ginásio Anuar Pacha.
URL:https://montelibanoriopreto.com.br/evento/judo-29/
LOCATION:Catanduva
CATEGORIES:Atividades Semanais
END:VEVENT
END:VCALENDAR